BEGIN:VCALENDAR
VERSION:2.0
PRODID:-//Cedar Creek Mall - National and Specialty Retail Stores Outlet - ECPv6.15.20//NONSGML v1.0//EN
CALSCALE:GREGORIAN
METHOD:PUBLISH
X-WR-CALNAME:Cedar Creek Mall - National and Specialty Retail Stores Outlet
X-ORIGINAL-URL:https://cedarcreekmall.com
X-WR-CALDESC:Events for Cedar Creek Mall - National and Specialty Retail Stores Outlet
REFRESH-INTERVAL;VALUE=DURATION:PT1H
X-Robots-Tag:noindex
X-PUBLISHED-TTL:PT1H
BEGIN:VTIMEZONE
TZID:America/Chicago
BEGIN:DAYLIGHT
TZOFFSETFROM:-0600
TZOFFSETTO:-0500
TZNAME:CDT
DTSTART:20180311T080000
END:DAYLIGHT
BEGIN:STANDARD
TZOFFSETFROM:-0500
TZOFFSETTO:-0600
TZNAME:CST
DTSTART:20181104T070000
END:STANDARD
BEGIN:DAYLIGHT
TZOFFSETFROM:-0600
TZOFFSETTO:-0500
TZNAME:CDT
DTSTART:20190310T080000
END:DAYLIGHT
BEGIN:STANDARD
TZOFFSETFROM:-0500
TZOFFSETTO:-0600
TZNAME:CST
DTSTART:20191103T070000
END:STANDARD
BEGIN:DAYLIGHT
TZOFFSETFROM:-0600
TZOFFSETTO:-0500
TZNAME:CDT
DTSTART:20200308T080000
END:DAYLIGHT
BEGIN:STANDARD
TZOFFSETFROM:-0500
TZOFFSETTO:-0600
TZNAME:CST
DTSTART:20201101T070000
END:STANDARD
END:VTIMEZONE
BEGIN:VEVENT
DTSTART;VALUE=DATE:20190406
DTEND;VALUE=DATE:20190407
DTSTAMP:20260420T143458
CREATED:20190314T203204Z
LAST-MODIFIED:20190314T204119Z
UID:1128-1554508800-1554595199@cedarcreekmall.com
SUMMARY:Central Wisconsin Live Your Passion Rally
DESCRIPTION:April 6th \nYoung Living Essential Oils
URL:https://cedarcreekmall.com/event/central-wisconsin-live-your-passion-rally/
END:VEVENT
END:VCALENDAR