BEGIN:VCALENDAR
VERSION:2.0
PRODID:-//Cedar Creek Mall - National and Specialty Retail Stores Outlet - ECPv6.15.20//NONSGML v1.0//EN
CALSCALE:GREGORIAN
METHOD:PUBLISH
X-WR-CALNAME:Cedar Creek Mall - National and Specialty Retail Stores Outlet
X-ORIGINAL-URL:https://cedarcreekmall.com
X-WR-CALDESC:Events for Cedar Creek Mall - National and Specialty Retail Stores Outlet
REFRESH-INTERVAL;VALUE=DURATION:PT1H
X-Robots-Tag:noindex
X-PUBLISHED-TTL:PT1H
BEGIN:VTIMEZONE
TZID:America/Chicago
BEGIN:DAYLIGHT
TZOFFSETFROM:-0600
TZOFFSETTO:-0500
TZNAME:CDT
DTSTART:20190310T080000
END:DAYLIGHT
BEGIN:STANDARD
TZOFFSETFROM:-0500
TZOFFSETTO:-0600
TZNAME:CST
DTSTART:20191103T070000
END:STANDARD
BEGIN:DAYLIGHT
TZOFFSETFROM:-0600
TZOFFSETTO:-0500
TZNAME:CDT
DTSTART:20200308T080000
END:DAYLIGHT
BEGIN:STANDARD
TZOFFSETFROM:-0500
TZOFFSETTO:-0600
TZNAME:CST
DTSTART:20201101T070000
END:STANDARD
BEGIN:DAYLIGHT
TZOFFSETFROM:-0600
TZOFFSETTO:-0500
TZNAME:CDT
DTSTART:20210314T080000
END:DAYLIGHT
BEGIN:STANDARD
TZOFFSETFROM:-0500
TZOFFSETTO:-0600
TZNAME:CST
DTSTART:20211107T070000
END:STANDARD
BEGIN:DAYLIGHT
TZOFFSETFROM:-0600
TZOFFSETTO:-0500
TZNAME:CDT
DTSTART:20220313T080000
END:DAYLIGHT
BEGIN:STANDARD
TZOFFSETFROM:-0500
TZOFFSETTO:-0600
TZNAME:CST
DTSTART:20221106T070000
END:STANDARD
END:VTIMEZONE
BEGIN:VEVENT
DTSTART;TZID=America/Chicago:20210130T090000
DTEND;TZID=America/Chicago:20210130T160000
DTSTAMP:20260420T072230
CREATED:20201113T153724Z
LAST-MODIFIED:20201113T162349Z
UID:1302-1611997200-1612022400@cedarcreekmall.com
SUMMARY:Craft & Vendor Event
DESCRIPTION:Booth size 12x8ft
URL:https://cedarcreekmall.com/event/cedar-creek-mall-event/
END:VEVENT
BEGIN:VEVENT
DTSTART;TZID=America/Chicago:20201213T090000
DTEND;TZID=America/Chicago:20201213T090000
DTSTAMP:20260420T072230
CREATED:20191231T182556Z
LAST-MODIFIED:20191231T182632Z
UID:1221-1607850000-1607850000@cedarcreekmall.com
SUMMARY:11th Annual Deck the Malls Craft & Vendor Event
DESCRIPTION:Pictures with Santa\nShop local crafters\, vendors and direct sale reps. And MUCH MUCH MORE TO COME
URL:https://cedarcreekmall.com/event/11th-annual-deck-the-malls-craft-vendor-event-2020-12-13/
END:VEVENT
BEGIN:VEVENT
DTSTART;TZID=America/Chicago:20201212T090000
DTEND;TZID=America/Chicago:20201212T090000
DTSTAMP:20260420T072230
CREATED:20191231T182556Z
LAST-MODIFIED:20191231T182632Z
UID:1219-1607763600-1607763600@cedarcreekmall.com
SUMMARY:11th Annual Deck the Malls Craft & Vendor Event
DESCRIPTION:Pictures with Santa\nShop local crafters\, vendors and direct sale reps. And MUCH MUCH MORE TO COME
URL:https://cedarcreekmall.com/event/11th-annual-deck-the-malls-craft-vendor-event/
END:VEVENT
BEGIN:VEVENT
DTSTART;TZID=America/Chicago:20201108T090000
DTEND;TZID=America/Chicago:20201108T160000
DTSTAMP:20260420T072230
CREATED:20191231T182145Z
LAST-MODIFIED:20191231T182306Z
UID:1214-1604826000-1604851200@cedarcreekmall.com
SUMMARY:Fall into Winter Craft & Vendor Event
DESCRIPTION:Help wake up Santa\nPictures with Santa\nCookies with Mrs Klaus\nShop local Crafters\, Vendors and Direct Sale Reps
URL:https://cedarcreekmall.com/event/fall-into-winter-craft-vendor-event-2020-11-08/
END:VEVENT
BEGIN:VEVENT
DTSTART;TZID=America/Chicago:20201107T090000
DTEND;TZID=America/Chicago:20201107T160000
DTSTAMP:20260420T072230
CREATED:20191231T182145Z
LAST-MODIFIED:20191231T182306Z
UID:1212-1604739600-1604764800@cedarcreekmall.com
SUMMARY:Fall into Winter Craft & Vendor Event
DESCRIPTION:Help wake up Santa\nPictures with Santa\nCookies with Mrs Klaus\nShop local Crafters\, Vendors and Direct Sale Reps
URL:https://cedarcreekmall.com/event/fall-into-winter-craft-vendor-event/
END:VEVENT
BEGIN:VEVENT
DTSTART;TZID=America/Chicago:20201024T090000
DTEND;TZID=America/Chicago:20201024T173000
DTSTAMP:20260420T072230
CREATED:20191231T181122Z
LAST-MODIFIED:20191231T181122Z
UID:1209-1603530000-1603560600@cedarcreekmall.com
SUMMARY:3rd Annual Mall-O-Ween Trick or Treating Craft and Vendor Show
DESCRIPTION:Come and Shop your favorite Crafter\, Vendors and Direct Sale Reps.. \nAlso take your little one trick or treating from booth to booth then from 3:30pm-5:30pm you can go trick or treating from Store to Store
URL:https://cedarcreekmall.com/event/3rd-annual-mall-o-ween-trick-or-treating-craft-and-vendor-show/
END:VEVENT
BEGIN:VEVENT
DTSTART;TZID=America/Chicago:20201023T110000
DTEND;TZID=America/Chicago:20201023T160000
DTSTAMP:20260420T072230
CREATED:20200603T204346Z
LAST-MODIFIED:20200603T204346Z
UID:1291-1603450800-1603468800@cedarcreekmall.com
SUMMARY:Farmers Market Fridays
DESCRIPTION:Join us every Friday starting June 5th – October 23\n11am-4pm \nNow accepting vendors* and food trucks! \n**No sale of liquor\, plants/flowers\, CBD (cannabinoid products)\, crafts\, resale items\, direct sales\, shakes\, or smoothies at this time.**
URL:https://cedarcreekmall.com/event/farmers-market-fridays-2020-10-23/
ORGANIZER;CN="Leanna Holzem":MAILTO:lholzem@rothschildwi.com
END:VEVENT
BEGIN:VEVENT
DTSTART;TZID=America/Chicago:20201016T110000
DTEND;TZID=America/Chicago:20201016T160000
DTSTAMP:20260420T072230
CREATED:20200603T204346Z
LAST-MODIFIED:20200603T204346Z
UID:1290-1602846000-1602864000@cedarcreekmall.com
SUMMARY:Farmers Market Fridays
DESCRIPTION:Join us every Friday starting June 5th – October 23\n11am-4pm \nNow accepting vendors* and food trucks! \n**No sale of liquor\, plants/flowers\, CBD (cannabinoid products)\, crafts\, resale items\, direct sales\, shakes\, or smoothies at this time.**
URL:https://cedarcreekmall.com/event/farmers-market-fridays-2020-10-16/
ORGANIZER;CN="Leanna Holzem":MAILTO:lholzem@rothschildwi.com
END:VEVENT
BEGIN:VEVENT
DTSTART;TZID=America/Chicago:20201009T110000
DTEND;TZID=America/Chicago:20201009T160000
DTSTAMP:20260420T072230
CREATED:20200603T204346Z
LAST-MODIFIED:20200603T204346Z
UID:1289-1602241200-1602259200@cedarcreekmall.com
SUMMARY:Farmers Market Fridays
DESCRIPTION:Join us every Friday starting June 5th – October 23\n11am-4pm \nNow accepting vendors* and food trucks! \n**No sale of liquor\, plants/flowers\, CBD (cannabinoid products)\, crafts\, resale items\, direct sales\, shakes\, or smoothies at this time.**
URL:https://cedarcreekmall.com/event/farmers-market-fridays-2020-10-09/
ORGANIZER;CN="Leanna Holzem":MAILTO:lholzem@rothschildwi.com
END:VEVENT
BEGIN:VEVENT
DTSTART;TZID=America/Chicago:20201002T110000
DTEND;TZID=America/Chicago:20201002T160000
DTSTAMP:20260420T072230
CREATED:20200603T204346Z
LAST-MODIFIED:20200603T204346Z
UID:1288-1601636400-1601654400@cedarcreekmall.com
SUMMARY:Farmers Market Fridays
DESCRIPTION:Join us every Friday starting June 5th – October 23\n11am-4pm \nNow accepting vendors* and food trucks! \n**No sale of liquor\, plants/flowers\, CBD (cannabinoid products)\, crafts\, resale items\, direct sales\, shakes\, or smoothies at this time.**
URL:https://cedarcreekmall.com/event/farmers-market-fridays-2020-10-02/
ORGANIZER;CN="Leanna Holzem":MAILTO:lholzem@rothschildwi.com
END:VEVENT
BEGIN:VEVENT
DTSTART;TZID=America/Chicago:20200925T110000
DTEND;TZID=America/Chicago:20200925T160000
DTSTAMP:20260420T072230
CREATED:20200603T204346Z
LAST-MODIFIED:20200603T204346Z
UID:1287-1601031600-1601049600@cedarcreekmall.com
SUMMARY:Farmers Market Fridays
DESCRIPTION:Join us every Friday starting June 5th – October 23\n11am-4pm \nNow accepting vendors* and food trucks! \n**No sale of liquor\, plants/flowers\, CBD (cannabinoid products)\, crafts\, resale items\, direct sales\, shakes\, or smoothies at this time.**
URL:https://cedarcreekmall.com/event/farmers-market-fridays-2020-09-25/
ORGANIZER;CN="Leanna Holzem":MAILTO:lholzem@rothschildwi.com
END:VEVENT
BEGIN:VEVENT
DTSTART;TZID=America/Chicago:20200918T110000
DTEND;TZID=America/Chicago:20200918T160000
DTSTAMP:20260420T072230
CREATED:20200603T204346Z
LAST-MODIFIED:20200603T204346Z
UID:1286-1600426800-1600444800@cedarcreekmall.com
SUMMARY:Farmers Market Fridays
DESCRIPTION:Join us every Friday starting June 5th – October 23\n11am-4pm \nNow accepting vendors* and food trucks! \n**No sale of liquor\, plants/flowers\, CBD (cannabinoid products)\, crafts\, resale items\, direct sales\, shakes\, or smoothies at this time.**
URL:https://cedarcreekmall.com/event/farmers-market-fridays-2020-09-18/
ORGANIZER;CN="Leanna Holzem":MAILTO:lholzem@rothschildwi.com
END:VEVENT
BEGIN:VEVENT
DTSTART;TZID=America/Chicago:20200911T110000
DTEND;TZID=America/Chicago:20200911T160000
DTSTAMP:20260420T072230
CREATED:20200603T204346Z
LAST-MODIFIED:20200603T204346Z
UID:1285-1599822000-1599840000@cedarcreekmall.com
SUMMARY:Farmers Market Fridays
DESCRIPTION:Join us every Friday starting June 5th – October 23\n11am-4pm \nNow accepting vendors* and food trucks! \n**No sale of liquor\, plants/flowers\, CBD (cannabinoid products)\, crafts\, resale items\, direct sales\, shakes\, or smoothies at this time.**
URL:https://cedarcreekmall.com/event/farmers-market-fridays-2020-09-11/
ORGANIZER;CN="Leanna Holzem":MAILTO:lholzem@rothschildwi.com
END:VEVENT
BEGIN:VEVENT
DTSTART;TZID=America/Chicago:20200904T110000
DTEND;TZID=America/Chicago:20200904T160000
DTSTAMP:20260420T072230
CREATED:20200603T204346Z
LAST-MODIFIED:20200603T204346Z
UID:1284-1599217200-1599235200@cedarcreekmall.com
SUMMARY:Farmers Market Fridays
DESCRIPTION:Join us every Friday starting June 5th – October 23\n11am-4pm \nNow accepting vendors* and food trucks! \n**No sale of liquor\, plants/flowers\, CBD (cannabinoid products)\, crafts\, resale items\, direct sales\, shakes\, or smoothies at this time.**
URL:https://cedarcreekmall.com/event/farmers-market-fridays-2020-09-04/
ORGANIZER;CN="Leanna Holzem":MAILTO:lholzem@rothschildwi.com
END:VEVENT
BEGIN:VEVENT
DTSTART;TZID=America/Chicago:20200828T110000
DTEND;TZID=America/Chicago:20200828T160000
DTSTAMP:20260420T072230
CREATED:20200603T204346Z
LAST-MODIFIED:20200603T204346Z
UID:1283-1598612400-1598630400@cedarcreekmall.com
SUMMARY:Farmers Market Fridays
DESCRIPTION:Join us every Friday starting June 5th – October 23\n11am-4pm \nNow accepting vendors* and food trucks! \n**No sale of liquor\, plants/flowers\, CBD (cannabinoid products)\, crafts\, resale items\, direct sales\, shakes\, or smoothies at this time.**
URL:https://cedarcreekmall.com/event/farmers-market-fridays-2020-08-28/
ORGANIZER;CN="Leanna Holzem":MAILTO:lholzem@rothschildwi.com
END:VEVENT
BEGIN:VEVENT
DTSTART;TZID=America/Chicago:20200821T110000
DTEND;TZID=America/Chicago:20200821T160000
DTSTAMP:20260420T072230
CREATED:20200603T204346Z
LAST-MODIFIED:20200603T204346Z
UID:1282-1598007600-1598025600@cedarcreekmall.com
SUMMARY:Farmers Market Fridays
DESCRIPTION:Join us every Friday starting June 5th – October 23\n11am-4pm \nNow accepting vendors* and food trucks! \n**No sale of liquor\, plants/flowers\, CBD (cannabinoid products)\, crafts\, resale items\, direct sales\, shakes\, or smoothies at this time.**
URL:https://cedarcreekmall.com/event/farmers-market-fridays-2020-08-21/
ORGANIZER;CN="Leanna Holzem":MAILTO:lholzem@rothschildwi.com
END:VEVENT
BEGIN:VEVENT
DTSTART;TZID=America/Chicago:20200816T090000
DTEND;TZID=America/Chicago:20200816T150000
DTSTAMP:20260420T072230
CREATED:20191231T180517Z
LAST-MODIFIED:20200317T185746Z
UID:1199-1597568400-1597590000@cedarcreekmall.com
SUMMARY:Cedar Creek Craft & Vendor Show
DESCRIPTION:Shop local vendors\, crafters and Direct Sale Reps also help local children with school supplies. And lets help Fill a Back Pack and more to give to local Children.
URL:https://cedarcreekmall.com/event/craft-vendor-show-2020-08-16/
END:VEVENT
BEGIN:VEVENT
DTSTART;TZID=America/Chicago:20200815T090000
DTEND;TZID=America/Chicago:20200815T160000
DTSTAMP:20260420T072230
CREATED:20191231T180517Z
LAST-MODIFIED:20200317T185746Z
UID:1197-1597482000-1597507200@cedarcreekmall.com
SUMMARY:Cedar Creek Craft & Vendor Show
DESCRIPTION:Shop local vendors\, crafters and Direct Sale Reps also help local children with school supplies. And lets help Fill a Back Pack and more to give to local Children.
URL:https://cedarcreekmall.com/event/craft-vendor-show/
END:VEVENT
BEGIN:VEVENT
DTSTART;TZID=America/Chicago:20200814T110000
DTEND;TZID=America/Chicago:20200814T160000
DTSTAMP:20260420T072230
CREATED:20200603T204346Z
LAST-MODIFIED:20200603T204346Z
UID:1281-1597402800-1597420800@cedarcreekmall.com
SUMMARY:Farmers Market Fridays
DESCRIPTION:Join us every Friday starting June 5th – October 23\n11am-4pm \nNow accepting vendors* and food trucks! \n**No sale of liquor\, plants/flowers\, CBD (cannabinoid products)\, crafts\, resale items\, direct sales\, shakes\, or smoothies at this time.**
URL:https://cedarcreekmall.com/event/farmers-market-fridays-2020-08-14/
ORGANIZER;CN="Leanna Holzem":MAILTO:lholzem@rothschildwi.com
END:VEVENT
BEGIN:VEVENT
DTSTART;TZID=America/Chicago:20200807T110000
DTEND;TZID=America/Chicago:20200807T160000
DTSTAMP:20260420T072230
CREATED:20200603T204346Z
LAST-MODIFIED:20200603T204346Z
UID:1280-1596798000-1596816000@cedarcreekmall.com
SUMMARY:Farmers Market Fridays
DESCRIPTION:Join us every Friday starting June 5th – October 23\n11am-4pm \nNow accepting vendors* and food trucks! \n**No sale of liquor\, plants/flowers\, CBD (cannabinoid products)\, crafts\, resale items\, direct sales\, shakes\, or smoothies at this time.**
URL:https://cedarcreekmall.com/event/farmers-market-fridays-2020-08-07/
ORGANIZER;CN="Leanna Holzem":MAILTO:lholzem@rothschildwi.com
END:VEVENT
BEGIN:VEVENT
DTSTART;TZID=America/Chicago:20200731T110000
DTEND;TZID=America/Chicago:20200731T160000
DTSTAMP:20260420T072230
CREATED:20200603T204346Z
LAST-MODIFIED:20200603T204346Z
UID:1279-1596193200-1596211200@cedarcreekmall.com
SUMMARY:Farmers Market Fridays
DESCRIPTION:Join us every Friday starting June 5th – October 23\n11am-4pm \nNow accepting vendors* and food trucks! \n**No sale of liquor\, plants/flowers\, CBD (cannabinoid products)\, crafts\, resale items\, direct sales\, shakes\, or smoothies at this time.**
URL:https://cedarcreekmall.com/event/farmers-market-fridays-2020-07-31/
ORGANIZER;CN="Leanna Holzem":MAILTO:lholzem@rothschildwi.com
END:VEVENT
BEGIN:VEVENT
DTSTART;TZID=America/Chicago:20200724T110000
DTEND;TZID=America/Chicago:20200724T160000
DTSTAMP:20260420T072230
CREATED:20200603T204346Z
LAST-MODIFIED:20200603T204346Z
UID:1278-1595588400-1595606400@cedarcreekmall.com
SUMMARY:Farmers Market Fridays
DESCRIPTION:Join us every Friday starting June 5th – October 23\n11am-4pm \nNow accepting vendors* and food trucks! \n**No sale of liquor\, plants/flowers\, CBD (cannabinoid products)\, crafts\, resale items\, direct sales\, shakes\, or smoothies at this time.**
URL:https://cedarcreekmall.com/event/farmers-market-fridays-2020-07-24/
ORGANIZER;CN="Leanna Holzem":MAILTO:lholzem@rothschildwi.com
END:VEVENT
BEGIN:VEVENT
DTSTART;TZID=America/Chicago:20200718T090000
DTEND;TZID=America/Chicago:20200718T160000
DTSTAMP:20260420T072230
CREATED:20200317T185310Z
LAST-MODIFIED:20200317T185310Z
UID:1257-1595062800-1595088000@cedarcreekmall.com
SUMMARY:Our Junk is Your Treasures Indoor/Outoor Craft/Flea Market
DESCRIPTION:Come check out everyone’s treasures at Cedar Creeks First ever indoor and outdoor crafter and flea market event.. ONE DAY ONLY!!
URL:https://cedarcreekmall.com/event/our-junk-is-your-treasures-indoor-outoor-craft-flea-market/
END:VEVENT
BEGIN:VEVENT
DTSTART;TZID=America/Chicago:20200717T110000
DTEND;TZID=America/Chicago:20200717T160000
DTSTAMP:20260420T072230
CREATED:20200603T204346Z
LAST-MODIFIED:20200603T204346Z
UID:1277-1594983600-1595001600@cedarcreekmall.com
SUMMARY:Farmers Market Fridays
DESCRIPTION:Join us every Friday starting June 5th – October 23\n11am-4pm \nNow accepting vendors* and food trucks! \n**No sale of liquor\, plants/flowers\, CBD (cannabinoid products)\, crafts\, resale items\, direct sales\, shakes\, or smoothies at this time.**
URL:https://cedarcreekmall.com/event/farmers-market-fridays-2020-07-17/
ORGANIZER;CN="Leanna Holzem":MAILTO:lholzem@rothschildwi.com
END:VEVENT
BEGIN:VEVENT
DTSTART;TZID=America/Chicago:20200710T110000
DTEND;TZID=America/Chicago:20200710T160000
DTSTAMP:20260420T072230
CREATED:20200603T204346Z
LAST-MODIFIED:20200603T204346Z
UID:1276-1594378800-1594396800@cedarcreekmall.com
SUMMARY:Farmers Market Fridays
DESCRIPTION:Join us every Friday starting June 5th – October 23\n11am-4pm \nNow accepting vendors* and food trucks! \n**No sale of liquor\, plants/flowers\, CBD (cannabinoid products)\, crafts\, resale items\, direct sales\, shakes\, or smoothies at this time.**
URL:https://cedarcreekmall.com/event/farmers-market-fridays-2020-07-10/
ORGANIZER;CN="Leanna Holzem":MAILTO:lholzem@rothschildwi.com
END:VEVENT
BEGIN:VEVENT
DTSTART;TZID=America/Chicago:20200703T110000
DTEND;TZID=America/Chicago:20200703T160000
DTSTAMP:20260420T072230
CREATED:20200603T204346Z
LAST-MODIFIED:20200603T204346Z
UID:1275-1593774000-1593792000@cedarcreekmall.com
SUMMARY:Farmers Market Fridays
DESCRIPTION:Join us every Friday starting June 5th – October 23\n11am-4pm \nNow accepting vendors* and food trucks! \n**No sale of liquor\, plants/flowers\, CBD (cannabinoid products)\, crafts\, resale items\, direct sales\, shakes\, or smoothies at this time.**
URL:https://cedarcreekmall.com/event/farmers-market-fridays-2020-07-03/
ORGANIZER;CN="Leanna Holzem":MAILTO:lholzem@rothschildwi.com
END:VEVENT
BEGIN:VEVENT
DTSTART;TZID=America/Chicago:20200626T110000
DTEND;TZID=America/Chicago:20200626T160000
DTSTAMP:20260420T072230
CREATED:20200603T204346Z
LAST-MODIFIED:20200603T204346Z
UID:1274-1593169200-1593187200@cedarcreekmall.com
SUMMARY:Farmers Market Fridays
DESCRIPTION:Join us every Friday starting June 5th – October 23\n11am-4pm \nNow accepting vendors* and food trucks! \n**No sale of liquor\, plants/flowers\, CBD (cannabinoid products)\, crafts\, resale items\, direct sales\, shakes\, or smoothies at this time.**
URL:https://cedarcreekmall.com/event/farmers-market-fridays-2020-06-26/
ORGANIZER;CN="Leanna Holzem":MAILTO:lholzem@rothschildwi.com
END:VEVENT
BEGIN:VEVENT
DTSTART;TZID=America/Chicago:20200619T110000
DTEND;TZID=America/Chicago:20200619T160000
DTSTAMP:20260420T072230
CREATED:20200603T204346Z
LAST-MODIFIED:20200603T204346Z
UID:1273-1592564400-1592582400@cedarcreekmall.com
SUMMARY:Farmers Market Fridays
DESCRIPTION:Join us every Friday starting June 5th – October 23\n11am-4pm \nNow accepting vendors* and food trucks! \n**No sale of liquor\, plants/flowers\, CBD (cannabinoid products)\, crafts\, resale items\, direct sales\, shakes\, or smoothies at this time.**
URL:https://cedarcreekmall.com/event/farmers-market-fridays-2020-06-19/
ORGANIZER;CN="Leanna Holzem":MAILTO:lholzem@rothschildwi.com
END:VEVENT
BEGIN:VEVENT
DTSTART;TZID=America/Chicago:20200612T110000
DTEND;TZID=America/Chicago:20200612T160000
DTSTAMP:20260420T072230
CREATED:20200603T204346Z
LAST-MODIFIED:20200603T204346Z
UID:1272-1591959600-1591977600@cedarcreekmall.com
SUMMARY:Farmers Market Fridays
DESCRIPTION:Join us every Friday starting June 5th – October 23\n11am-4pm \nNow accepting vendors* and food trucks! \n**No sale of liquor\, plants/flowers\, CBD (cannabinoid products)\, crafts\, resale items\, direct sales\, shakes\, or smoothies at this time.**
URL:https://cedarcreekmall.com/event/farmers-market-fridays-2020-06-12/
ORGANIZER;CN="Leanna Holzem":MAILTO:lholzem@rothschildwi.com
END:VEVENT
BEGIN:VEVENT
DTSTART;TZID=America/Chicago:20200605T110000
DTEND;TZID=America/Chicago:20200605T160000
DTSTAMP:20260420T072230
CREATED:20200603T204346Z
LAST-MODIFIED:20200603T204346Z
UID:1269-1591354800-1591372800@cedarcreekmall.com
SUMMARY:Farmers Market Fridays
DESCRIPTION:Join us every Friday starting June 5th – October 23\n11am-4pm \nNow accepting vendors* and food trucks! \n**No sale of liquor\, plants/flowers\, CBD (cannabinoid products)\, crafts\, resale items\, direct sales\, shakes\, or smoothies at this time.**
URL:https://cedarcreekmall.com/event/farmers-market-fridays/
ORGANIZER;CN="Leanna Holzem":MAILTO:lholzem@rothschildwi.com
END:VEVENT
END:VCALENDAR